BEGIN:VCALENDAR
PRODID:-//Microsoft Corporation//Outlook 14.0 MIMEDIR//EN
VERSION:2.0
METHOD:PUBLISH
BEGIN:VEVENT
UID:5d7cf63641b9749136dee561f2f6b358www.caberable.org
DTSTAMP:20260425T111908Z
DTSTART:2026-07-02T11:30:0000Z
DTEND:2026-07-02T13:30:0000Z
SUMMARY:AGA du CABÉ
LOCATION:
DESCRIPTION:Notre Assemblée générale annuelle arrive à grands pas!
END:VEVENT
END:VCALENDAR